BEGIN:VCALENDAR
VERSION:2.0
PRODID:-//World Enjoyer Pádel - ECPv6.15.3//NONSGML v1.0//EN
CALSCALE:GREGORIAN
METHOD:PUBLISH
X-ORIGINAL-URL:https://worldenjoyerpadel.com
X-WR-CALDESC:Eventos para World Enjoyer Pádel
REFRESH-INTERVAL;VALUE=DURATION:PT1H
X-Robots-Tag:noindex
X-PUBLISHED-TTL:PT1H
BEGIN:VTIMEZONE
TZID:Europe/Madrid
BEGIN:DAYLIGHT
TZOFFSETFROM:+0100
TZOFFSETTO:+0200
TZNAME:CEST
DTSTART:20250330T010000
END:DAYLIGHT
BEGIN:STANDARD
TZOFFSETFROM:+0200
TZOFFSETTO:+0100
TZNAME:CET
DTSTART:20251026T010000
END:STANDARD
END:VTIMEZONE
BEGIN:VEVENT
DTSTART;TZID=Europe/Madrid:20250905T110000
DTEND;TZID=Europe/Madrid:20250907T140000
DTSTAMP:20260423T053406
CREATED:20250701T150426Z
LAST-MODIFIED:20250801T163816Z
UID:10000068-1757070000-1757253600@worldenjoyerpadel.com
SUMMARY:Campus de Padel de Competición Menores Madrid durante Premier Padel
DESCRIPTION:🕑💪 Campus de Padel Madrid ¡Plazas limitadas!\n				\n			\n				\n				\n				\n				\n				\n				\n				\n					\n				\n			\n				\n			\n			\n				\n				\n				\n				\n			\n				\n				\n				\n				\n				\n				\n				\n				\n				\n				\n				Campus de Padel de Competición Menores Madrid – ¡Mejora tu Padel durante el Premier Padel Madrid! \n¡Bienvenidos a la 6ª edición del Campus de Padel Madrid!Del 3 al 7 de septiembre de 2025\, llega una nueva edición del Campus de Pádel de Competición para Menores en Madrid\, una experiencia exclusiva para jóvenes jugadores que buscan mejorar su nivel técnico\, táctico y físico en un entorno profesional y motivador. \n🎯 Enfocado a jugadores de competición que quieran dar un salto de calidad en su juego.📍 Ubicación privilegiada en Madrid\, coincidiendo con el ambiente único del Premier Padel Madrid.🎾 Entrenamientos intensivos\, análisis técnico y partidos dirigidos por entrenadores expertos.👥 Grupos organizados por perfiles\, para maximizar el rendimiento y el aprendizaje. \n📅 Fechas: del 3 al 7 de septiembre de 2025🚀 Una semana para potenciar tu padel y vivir el mejor ambiente competitivo en la capital. \n¡Inscríbete y empieza a tope la temporada! \n			\n			\n				\n				\n				\n				\n				\n				\n					\n				\n				\n				\n					\n						\n						\n							  \n  \n  \n  \n  \n  \n  \n  \n \n							\n						\n					\n				\n				\n				\n				\n			\n			\n				\n				\n			\n			\n			\n				\n				\n				\n				\n			\n				\n				\n				\n				\n				\n				\n				\n				\n				\n				\n				\n				\n			\n				\n				\n				\n				\n				Más de 450 campus de entrenamiento en 18 paísesCampus con más de 20 años de experiencia en todo el mundo\n				\n			\n				\n				\n				\n				\n				\n				\n				\n					\n				\n			\n				\n			\n			\n				\n				\n				\n				\n			\n				\n				\n				\n				\n				\n				\n				\n				\n				\n				\n				Staff de Pádel\n				El Campus de Padel Madrid es la oportunidad perfecta para elevar tu nivel de juego. Ofrecemos un entrenamiento integral diseñado para optimizar tu rendimiento en la pista. Mejorarás aspectos clave como: técnica\, estrategia\, tácticas\, preparación física y mental\, y mucho más. \nDisfruta de un entrenamiento profesional en un entorno único. Además\, contarás con la guía de entrenadores de renombre internacional\, quienes te ayudarán a mejorar tu juego durante todo el evento. ¡No dejes pasar esta oportunidad!\n			\n				\n				\n				\n				\n				Objetivos y metas\n				Lo que obtendrás en este exclusivo Campus de Padel Madrid: \n\nEntrenamiento Personalizado: Sesiones adaptadas a tu nivel para maximizar tu progreso.\nCoaching de Alto Nivel: Instrucción de entrenadores con amplia experiencia en circuitos internacionales.\nJuegos y Competición: Pon a prueba lo aprendido en partidos reales y simulaciones competitivas.\nMejora Integral: Técnica\, estrategia\, movilidad y mentalidad competitiva serán las claves de tu desarrollo.\nAmbiente Motivador: Rodéate de jugadores apasionados en un entorno dinámico y positivo.\n\n			\n				\n				\n				\n				\n				Metodología\n				En nuestro Campus de Padel Madrid\, aplicamos métodos innovadores para que puedas mejorar tu padel de forma rápida y efectiva. Los puntos clave de nuestro entrenamiento incluyen: \n\nMentalidad Competitiva: Aprende a mantener la calma y concentración bajo presión.\nIntensidad en los Entrenamientos: Trabajamos con partidos condicionados para simular situaciones reales de competición.\nMovimiento Eficiente: Mejora tu agilidad y movilidad con ejercicios prácticos.\nDecisiones Rápidas: Desarrolla tu capacidad para tomar decisiones efectivas en momentos clave del juego.\nTácticas y Estrategias: Aprende a leer el juego y dominar cada punto con precisión.\n\n			\n			\n				\n				\n				\n				\n				\n				\n				\n				\n				\n				Horario del Campus\n				\nHorario del Campus de Padel Madrid\n¡3 días intensivos de padel! \n\n\nViernes: Doble sesión (mañana y tarde).\nSábado: Doble sesión (mañana y tarde) + Cena del campus.\nDomingo: Entrenamiento y competición hasta las 14:00.\n\n			\n				\n				\n				\n				\n				Localización\n				Padel La Massó Sports Club.\n			\n				\n				\n				\n				\n				Política de cancelación\n				Política de Cancelación\n\nCancelación entre 15 y 0 días antes del evento: No se realiza reembolso.\nCancelación entre 15 y 30 días antes del evento: Reembolso del 30%.\nCancelación con más de 30 días de antelación: Reembolso del 50%.\n\n			\n			\n				\n				\n				\n				\n			\n				\n				\n				\n				\n				\n				\n				\n				\n				\n				\n				\n				\n					3 días llenos de pádel. Fue divertido\, muy efectivo y educativo. El equipo fue muy amable y nos dio buenos comentarios para que pudiéramos mejorar. Lo más destacado fue el partido contra los mejores jugadores de pádel 🙂 \nJohanes (2024) \nReserva Tu Plaza Ahora\n¡No pierdas la oportunidad de mejorar tu padel en Madrid!Reserva tu plaza para el Campus y prepárate para una experiencia única que marcará un antes y un después en tu nivel de juego. Haz clic aquí para inscribirte.
URL:https://worldenjoyerpadel.com/evento/campus-de-padel-de-competicion-menores-madrid-durante-premier-padel-2/
LOCATION:La Masó Sports Club\, Calle de la Masó\, 34\, Madrid\, Madrid\, 28034\, Spain
CATEGORIES:Fin de Semana,Premium,Verano Junior
ATTACH;FMTTYPE=image/jpeg:https://worldenjoyerpadel.com/wp-content/uploads/2024/11/Squoosh-Week-2-2.jpg
ORGANIZER;CN="Staff de P%C3%A1del de World Enjoyer":MAILTO:info@worldenjoyer.com
END:VEVENT
BEGIN:VEVENT
DTSTART;TZID=Europe/Madrid:20250903T110000
DTEND;TZID=Europe/Madrid:20250907T140000
DTSTAMP:20260423T053407
CREATED:20250701T145528Z
LAST-MODIFIED:20250701T145834Z
UID:10000067-1756897200-1757253600@worldenjoyerpadel.com
SUMMARY:Campus de Padel de Competición Menores Madrid durante Premier Padel
DESCRIPTION:🕑💪 Campus de Padel Madrid ¡Plazas limitadas!\n				\n			\n				\n				\n				\n				\n				\n				\n				\n					\n				\n			\n				\n			\n			\n				\n				\n				\n				\n			\n				\n				\n				\n				\n				\n				\n				\n				\n				\n				\n				Campus de Padel de Competición Menores Madrid – ¡Mejora tu Padel durante el Premier Padel Madrid! \n¡Bienvenidos a la 6ª edición del Campus de Padel Madrid!Del 3 al 7 de septiembre de 2025\, llega una nueva edición del Campus de Pádel de Competición para Menores en Madrid\, una experiencia exclusiva para jóvenes jugadores que buscan mejorar su nivel técnico\, táctico y físico en un entorno profesional y motivador. \n🎯 Enfocado a jugadores de competición que quieran dar un salto de calidad en su juego.📍 Ubicación privilegiada en Madrid\, coincidiendo con el ambiente único del Premier Padel Madrid.🎾 Entrenamientos intensivos\, análisis técnico y partidos dirigidos por entrenadores expertos.👥 Grupos organizados por perfiles\, para maximizar el rendimiento y el aprendizaje. \n📅 Fechas: del 3 al 7 de septiembre de 2025🚀 Una semana para potenciar tu padel y vivir el mejor ambiente competitivo en la capital. \n¡Inscríbete y empieza a tope la temporada! \n			\n			\n				\n				\n				\n				\n				\n				\n					\n				\n				\n				\n					\n						\n						\n							  \n  \n  \n  \n  \n  \n  \n  \n  \n							\n						\n					\n				\n				\n				\n				\n			\n			\n				\n				\n			\n			\n			\n				\n				\n				\n				\n			\n				\n				\n				\n				\n				\n				\n				\n				\n				\n				\n				\n				\n			\n				\n				\n				\n				\n				Más de 450 campus de entrenamiento en 18 paísesCampus con más de 20 años de experiencia en todo el mundo \n				\n			\n				\n				\n				\n				\n				\n				\n				\n					\n				\n			\n				\n			\n			\n				\n				\n				\n				\n			\n				\n				\n				\n				\n				\n				\n				\n				\n				\n				\n				Staff de Pádel\n				El Campus de Padel Madrid es la oportunidad perfecta para elevar tu nivel de juego. Ofrecemos un entrenamiento integral diseñado para optimizar tu rendimiento en la pista. Mejorarás aspectos clave como: técnica\, estrategia\, tácticas\, preparación física y mental\, y mucho más. \nDisfruta de un entrenamiento profesional en un entorno único. Además\, contarás con la guía de entrenadores de renombre internacional\, quienes te ayudarán a mejorar tu juego durante todo el evento. ¡No dejes pasar esta oportunidad! \n			\n				\n				\n				\n				\n				Objetivos y metas\n				Lo que obtendrás en este exclusivo Campus de Padel Madrid: \n\nEntrenamiento Personalizado: Sesiones adaptadas a tu nivel para maximizar tu progreso.\nCoaching de Alto Nivel: Instrucción de entrenadores con amplia experiencia en circuitos internacionales.\nJuegos y Competición: Pon a prueba lo aprendido en partidos reales y simulaciones competitivas.\nMejora Integral: Técnica\, estrategia\, movilidad y mentalidad competitiva serán las claves de tu desarrollo.\nAmbiente Motivador: Rodéate de jugadores apasionados en un entorno dinámico y positivo.\n\n			\n				\n				\n				\n				\n				Metodología\n				En nuestro Campus de Padel Madrid\, aplicamos métodos innovadores para que puedas mejorar tu padel de forma rápida y efectiva. Los puntos clave de nuestro entrenamiento incluyen: \n\nMentalidad Competitiva: Aprende a mantener la calma y concentración bajo presión.\nIntensidad en los Entrenamientos: Trabajamos con partidos condicionados para simular situaciones reales de competición.\nMovimiento Eficiente: Mejora tu agilidad y movilidad con ejercicios prácticos.\nDecisiones Rápidas: Desarrolla tu capacidad para tomar decisiones efectivas en momentos clave del juego.\nTácticas y Estrategias: Aprende a leer el juego y dominar cada punto con precisión.\n\n			\n			\n				\n				\n				\n				\n				\n				\n				\n				\n				\n				Horario del Campus\n				\nHorario del Campus de Padel Madrid\n¡5 días intensivos de padel! \n\nMiércoles: Doble sesión (mañana y tarde).\n\n\nJueves: Doble sesión (mañana y tarde).\n\n\nViernes: Doble sesión (mañana y tarde).\nSábado: Doble sesión (mañana y tarde) + Cena del campus.\nDomingo: Entrenamiento y competición hasta las 14:00.\n\n			\n				\n				\n				\n				\n				Localización\n				Padel La Massó Sports Club. \n \n			\n				\n				\n				\n				\n				Política de cancelación\n				Política de Cancelación\n\nCancelación entre 15 y 0 días antes del evento: No se realiza reembolso.\nCancelación entre 15 y 30 días antes del evento: Reembolso del 30%.\nCancelación con más de 30 días de antelación: Reembolso del 50%.\n\n			\n			\n				\n				\n				\n				\n			\n				\n				\n				\n				\n				\n				\n				\n				\n				\n				\n				\n				\n					5 días llenos de pádel. Fue divertido\, muy efectivo y educativo. El equipo fue muy amable y nos dio buenos comentarios para que pudiéramos mejorar. Lo más destacado fue el partido contra los mejores jugadores de pádel 🙂 \nJohanes (2024) \nReserva Tu Plaza Ahora\n¡No pierdas la oportunidad de mejorar tu padel en Madrid!Reserva tu plaza para el Campus y prepárate para una experiencia única que marcará un antes y un después en tu nivel de juego. Haz clic aquí para inscribirte.
URL:https://worldenjoyerpadel.com/evento/campus-de-padel-de-competicion-menores-madrid-durante-premier-padel/
LOCATION:La Masó Sports Club\, Calle de la Masó\, 34\, Madrid\, Madrid\, 28034\, Spain
CATEGORIES:5 Días,Premium,Verano Junior
ATTACH;FMTTYPE=image/jpeg:https://worldenjoyerpadel.com/wp-content/uploads/2024/11/Squoosh-Week-1-1.jpg
ORGANIZER;CN="Staff de P%C3%A1del de World Enjoyer":MAILTO:info@worldenjoyer.com
END:VEVENT
BEGIN:VEVENT
DTSTART;TZID=Europe/Madrid:20250721T160000
DTEND;TZID=Europe/Madrid:20250727T140000
DTSTAMP:20260423T053407
CREATED:20250106T104939Z
LAST-MODIFIED:20250528T073527Z
UID:10000045-1753113600-1753624800@worldenjoyerpadel.com
SUMMARY:Campamento de Verano de Padel Menores en León - Semana 4
DESCRIPTION:🕑💪 ¡Plazas limitadas!\n				\n			\n				\n				\n				\n				\n				\n				\n				\n					\n				\n			\n				\n			\n			\n				\n				\n				\n				\n			\n				\n				\n				\n				\n				\n				\n				\n				\n				\n				\n				Apúntate a nuestro Campamento de Verano de Padel para menores. Te ofrecemos un campamento exclusivo con alojamiento y pensión completa para aquellos que realmente quieren competir y mejorar este verano. Objetivos: perfeccionamiento técnico\, estrategia\, movimientos\, tácticas\, desarrollo mental y preparación para la competición. \n📅 Del 21 al 27 de Julio de 2025. Garantizamos un programa de 7 días. \n📶 Este campamento está diseñado para menores que buscan elevar su nivel de juego. Trabajamos en grupos de entrenamiento adaptados al perfil y la edad de cada participante. \n🎾 ¡Mejora tu nivel de pádel en una experiencia única este verano! \n¡Entrena y avanza en tu pádel!» \n			\n			\n				\n				\n				\n				\n				\n				\n					\n				\n				\n				\n					\n						\n						\n							  \n  \n  \n  \n  \n  \n  \n							\n						\n					\n				\n				\n				\n				\n			\n			\n				\n				\n				\n					\n						\n						\n							\n							\n						\n					\n				\n				\n				\n				\n			\n			\n				\n				\n				\n					\n						\n						\n							\n							\n						\n					\n				\n				\n				\n				\n			\n			\n				\n				\n				\n					\n						\n						\n							\n							\n						\n					\n				\n				\n				\n				\n			\n			\n				\n				\n			\n			\n			\n				\n				\n				\n				\n			\n				\n				\n				\n				\n				\n				\n				\n				\n				\n				\n				\n				\n			\n				\n				\n				\n				\n				Más de 450 campus de entrenamiento en 17 paísesCampus con más de 20 años de experiencia en todo el mundo\n				\n			\n				\n				\n				\n				\n				\n				\n				\n					\n				\n			\n				\n			\n			\n				\n				\n				\n				\n			\n				\n				\n				\n				\n				\n				\n				\n				\n				\n				\n				Staff de Pádel\n				Staff del Campamento de Verano de Padel Menores \nNuestro equipo está compuesto por entrenadores profesionales con amplia experiencia en circuitos internacionales\, algunos de ellos con participación a nivel mundial. Todos poseen una fuerte vocación de servicio\, dedicados a proporcionar un valor extra en cada sesión\, garantizando una experiencia única y enriquecedora para cada participante. \n			\n				\n				\n				\n				\n				Objetivos y metas\n				El Campamento de Verano de Padel es la oportunidad perfecta para mejorar tu pádel este verano. Entrena en un entorno internacional y lleva tu nivel a otro nivel con la guía de entrenadores profesionales. \n¿Qué ofrecemos? \n\nFormación de alto nivel con nuestro equipo de entrenadores internacionales.\nUna experiencia inolvidable en un ambiente positivo y motivador.\nUn programa completo que cubre técnica\, táctica\, movilidad y preparación física.\nEntrenamientos y partidos con nuestro equipo profesional.\n\n¡No dejes pasar la oportunidad de mejorar tu pádel este verano! \n¡Contáctanos para más información sobre el campus! \n			\n				\n				\n				\n				\n				Metodología\n				En World Enjoyer Pádel\, aplicamos una metodología de entrenamiento innovadora para mejorar significativamente tu pádel durante nuestro Campamento de Verano de Padel. Nuestra forma de trabajar se fundamenta en principios clave como: mentalidad competitiva\, intensidad en los entrenamientos y partidos condicionados\, concentración\, movilidad\, carácter ganador\, liderazgo en el juego\, percepción\, toma de decisiones acertadas y saber competir de verdad. Vive una experiencia única y mejora tu nivel con una metodología eficaz en nuestro Campamento de Verano de Padel. \n			\n			\n				\n				\n				\n				\n				\n				\n				\n				\n				\n				Horario del Campus\n				Campamento de Verano de Padel Menores:\nSe trata de un campus con pernoctación en pensión completa en Residencia Universitaria con este horario: \n8:00   Levantarse y Desayunar. \n9:15 Introducción de los objetivos diarios / Entrenamiento técnico y trabajo con el preparador físico.  \n*Cada mañana se trabajarán áreas específicas que se implementarán por la tarde. \n12:00  Estiramientos y valoración de la sesión. \n12:30 Piscina o descanso. \n13:30 Comida. \n14.00 Siesta. \n16:00 Entrenamiento táctico. Mediante partidos condicionados focalizados en los objetivos matutinos. Partidos con entrenadores. Competición. \n17:30 Seminarios y vídeo análisis. Con el fin de mejorar la parte mental y la relación con la pareja deportiva. \n20.00 Cena.\n21:00 Actividad programada.\n22.30 Dormir.\n			\n				\n				\n				\n				\n				Localización\n				León\n			\n				\n				\n				\n				\n				Política de cancelación\n				\nCancelación entre 25 días y el evento: sin reembolso.\nCancelación entre 25 y 60 días: reembolso del 30%.\nCancelación con más de 60 días: reembolso del 50%.\n\n			\n			\n				\n				\n				\n				\n			\n				\n				\n				\n				\n				\n				\n				\n				\n				\n				\n				\n				\n					Mi hijo realizó el campus la primer semana de julio y no tengo más que palabras de agradecimiento por como lo han tratado y todo lo que aprendió. Gran grupo de monitores y gran grupo de niños. Se lo han pasado estupendamente. Super recomendable!!! \nPablo (Lanzarote)
URL:https://worldenjoyerpadel.com/evento/campamento-de-verano-de-padel-menores-en-leon-semana-4/
CATEGORIES:Premium,Verano Junior
ATTACH;FMTTYPE=image/jpeg:https://worldenjoyerpadel.com/wp-content/uploads/2025/01/Squoosh-Week-4-1.jpg
ORGANIZER;CN="Staff de P%C3%A1del de World Enjoyer":MAILTO:info@worldenjoyer.com
END:VEVENT
BEGIN:VEVENT
DTSTART;TZID=Europe/Madrid:20250110T160000
DTEND;TZID=Europe/Madrid:20250112T140000
DTSTAMP:20260423T053407
CREATED:20241121T224102Z
LAST-MODIFIED:20250326T091429Z
UID:10000028-1736524800-1736690400@worldenjoyerpadel.com
SUMMARY:Campus de Padel en Larvik - Noruega
DESCRIPTION:🕑💪 ¡Plazas muy limitadas!\n				\n			\n				\n				\n				\n				\n				\n				\n				\n					\n				\n			\n				\n			\n			\n				\n				\n				\n				\n			\n				\n				\n				\n				\n				\n				\n				\n				\n				\n				\n				Campus de Padel en Padel House Larvik – ¡Primera Edición en 2025! \n¡Únete a nuestra experiencia única de fin de semana en Noruega! \nDel 10 al 12 de enero de 2025\, te ofrecemos un curso intensivo de 8 horas para mejorar tu padel. Los objetivos del curso incluyen: técnica\, estrategia\, movimiento\, consejos tácticos\, preparación mental y estar listo para la competición.📅 Fechas: del 10 al 12 de enero de 2025. \n📶 Grupos de entrenamiento según nivel – ¡Todos los niveles son bienvenidos! \n🎾 ¡Eleva tu nivel de padel en una experiencia única en Larvik\, Noruega! \n			\n			\n				\n				\n				\n				\n				\n				\n					\n				\n				\n				\n					\n						\n						\n							  \n  \n  \n  \n  \n  \n \n							\n						\n					\n				\n				\n				\n				\n			\n			\n				\n				\n				\n					\n						\n						\n							  \n  \n  \n \n							\n						\n					\n				\n				\n				\n				\n			\n			\n				\n				\n				\n					\n						\n						\n							  \n  \n  \n \n							\n						\n					\n				\n				\n				\n				\n			\n			\n				\n				\n				\n					\n						\n						\n							  \n  \n  \n \n							\n						\n					\n				\n				\n				\n				\n			\n			\n				\n				\n			\n			\n			\n				\n				\n				\n				\n			\n				\n				\n				\n				\n				\n				\n				\n				\n				\n				\n				\n				\n			\n				\n				\n				\n				\n				Más de 450 campus en 17 países desde 2003World Enjoyer organiza campus en todo el mundo. \n				\n			\n				\n				\n				\n				\n				\n				\n				\n					\n				\n			\n				\n			\n			\n				\n				\n				\n				\n			\n				\n				\n				\n				\n				\n				\n				\n				\n				\n				\n				Staff de Pádel\n				¡Una experiencia inolvidable para mejorar tu padel en Noruega!En Campus Padel en Padel House Larvik\, tendrás la oportunidad de entrenar con entrenadores profesionales con amplia experiencia en circuitos internacionales\, algunos de ellos compitiendo a nivel mundial. Nuestro equipo se compromete a ofrecerte valor en cada sesión\, asegurando que vivas una experiencia enriquecedora durante todo el fin de semana. \n			\n				\n				\n				\n				\n				Objetivos y metas\n				¿Qué puedes esperar de nuestro Campus de Padel? \n\nUna gran oportunidad de mejorar tu padel con nuestros entrenadores expertos.\nInstrucción de alta calidad por parte de un equipo internacional de entrenadores.\nUna experiencia única en un ambiente agradable y motivador.\nEl programa abarca todos los aspectos del desarrollo del jugador: técnica\, táctica\, movimiento y entrenamiento físico.\nParticipa en partidos reales con la orientación profesional de nuestros entrenadores.\n\n¡Contáctanos para más detalles sobre el campus! \n			\n				\n				\n				\n				\n				Metodología\n				Campus de Padel – Metodología de Entrenamiento:En World Enjoyer\, aplicamos sistemas de entrenamiento innovadores para mejorar rápidamente tu nivel de padel. Nuestra metodología se basa en principios como: \n\nMentalidad competitiva\nEntrenamiento intenso y partidos condicionados\nConcentración\, movimiento y actitud ganadora\nToma de decisiones\, liderazgo en la pista y estrategias efectivas de competición\n\n			\n			\n				\n				\n				\n				\n				\n				\n				\n				\n				\n				Horario del Campus\n				Campus Padel Berlín: \n\nViernes: Garantizamos una larga sesión de entrenamiento por la tarde/noche.\nSábado: Organizamos sesiones dobles (mañana – tarde) más cena del campus.\nDomingo: Entrenamiento y competición. Terminamos alrededor de las 14:00.\n\nImportante: \n\nCampus Padel en Padel House Larvik garantiza 8 horas de entrenamiento durante el fin de semana\, del 10 al 12 de enero de 2025.\nConsulta nuestros horarios para grupos según tu nivel y perfil.\n\n			\n				\n				\n				\n				\n				Localización\n				Padel House Larvik es una instalación de primera calidad ideal para entrenar todo el año\, con excelentes condiciones\, independientemente del clima. Con sus pistas cubiertas\, ofrece un ambiente controlado para un entrenamiento cómodo y de alto nivel. ¡La mejor opción para entrenar y disfrutar del padel! \n			\n				\n				\n				\n				\n				Política de cancelación\n				\nCancelación entre 25 días y el evento: sin reembolso.\nCancelación entre 25 y 60 días: reembolso del 30%.\nCancelación con más de 60 días: reembolso del 50%.\n\n			\n			\n				\n				\n				\n				\n			\n				\n				\n				\n				\n				\n				\n				\n				\n				\n				\n				\n				\n					Opinión de un Participante:«Fue muy divertido\, efectivo y educativo. El equipo de entrenadores fue increíblemente amable y nos dio excelentes comentarios para ayudarnos a mejorar. ¡Lo mejor fue jugar contra los mejores jugadores de padel!»— Johannes (Enero 2024)
URL:https://worldenjoyerpadel.com/evento/campus-de-padel-en-larvik-noruega/
LOCATION:Padel House\, Hegdal\, Larvik Golfklubb\, Larvik\, Larvik\, 3271\, Norway
CATEGORIES:Fin de Semana,Premium
ATTACH;FMTTYPE=image/webp:https://worldenjoyerpadel.com/wp-content/uploads/2024/11/43-Ski-padel-Camp-2024B.webp
ORGANIZER;CN="Staff de P%C3%A1del de World Enjoyer":MAILTO:info@worldenjoyer.com
END:VEVENT
END:VCALENDAR