BEGIN:VCALENDAR
VERSION:2.0
PRODID:-//World Enjoyer Pádel - ECPv6.15.3//NONSGML v1.0//EN
CALSCALE:GREGORIAN
METHOD:PUBLISH
X-WR-CALNAME:World Enjoyer Pádel
X-ORIGINAL-URL:https://worldenjoyerpadel.com
X-WR-CALDESC:Eventos para World Enjoyer Pádel
REFRESH-INTERVAL;VALUE=DURATION:PT1H
X-Robots-Tag:noindex
X-PUBLISHED-TTL:PT1H
BEGIN:VTIMEZONE
TZID:Europe/Madrid
BEGIN:DAYLIGHT
TZOFFSETFROM:+0100
TZOFFSETTO:+0200
TZNAME:CEST
DTSTART:20250330T010000
END:DAYLIGHT
BEGIN:STANDARD
TZOFFSETFROM:+0200
TZOFFSETTO:+0100
TZNAME:CET
DTSTART:20251026T010000
END:STANDARD
BEGIN:DAYLIGHT
TZOFFSETFROM:+0100
TZOFFSETTO:+0200
TZNAME:CEST
DTSTART:20260329T010000
END:DAYLIGHT
BEGIN:STANDARD
TZOFFSETFROM:+0200
TZOFFSETTO:+0100
TZNAME:CET
DTSTART:20261025T010000
END:STANDARD
END:VTIMEZONE
BEGIN:VEVENT
DTSTART;TZID=Europe/Madrid:20251003T160000
DTEND;TZID=Europe/Madrid:20251005T140000
DTSTAMP:20260423T001319
CREATED:20250422T160032Z
LAST-MODIFIED:20250422T160431Z
UID:10000056-1759507200-1759672800@worldenjoyerpadel.com
SUMMARY:Campus Padel Grenaa
DESCRIPTION:🕑💪Grenaa Padel Camp - Limited slots available!\n				\n			\n				\n				\n				\n				\n				\n				\n				\n					\n				\n			\n				\n			\n			\n				\n				\n				\n				\n			\n				\n				\n				\n				\n				\n				\n				\n				\n				\n				\n				Grenaa Padel Camp in Denmark – Padel8500 (October 3–5\, 2025) \nTake your padel game to the next level in Grenaa!From October 3rd to 5th\, 2025\, join us at Padel8500 for an exciting Grenaa padel camp experience. This intensive 8-hour training course is designed to help you improve your technique\, develop smarter strategies\, and compete with confidence. Whether you’re just starting out or already an experienced player\, this camp is tailored for all skill levels. \n📅 Dates: October 3–5\, 2025📶 Level-based training groups – all players welcome!🎾 A full weekend of padel in the heart of Grenaa! \nJoin us for a weekend of top-notch coaching\, fun matches\, and great vibes with fellow padel lovers at Padel8500. \n			\n			\n				\n				\n				\n				\n				\n				\n					\n				\n				\n				\n					\n						\n						\n							  \n  \n  \n  \n  \n  \n \n							\n						\n					\n				\n				\n				\n				\n			\n			\n				\n				\n				\n					\n						\n						\n							\n							\n						\n					\n				\n				\n				\n				\n			\n			\n				\n				\n				\n					\n						\n						\n							\n							\n						\n					\n				\n				\n				\n				\n			\n			\n				\n				\n				\n					\n						\n						\n							\n							\n						\n					\n				\n				\n				\n				\n			\n			\n				\n				\n			\n			\n			\n				\n				\n				\n				\n			\n				\n				\n				\n				\n				\n				\n				\n				\n				\n				\n				\n				\n			\n				\n				\n				\n				\n				More than 450 camps in 18 countriesSince 2003 \n				\n			\n				\n				\n				\n				\n				\n				\n				\n					\n				\n			\n				\n			\n			\n				\n				\n				\n				\n			\n				\n				\n				\n				\n				\n				\n				\n				\n				\n				\n				Coaching team\n				Why Join the Padel Camp in Denmark?\nAt Padel8500 in Grenaa\, you’ll train with highly qualified coaches who bring experience from international circuits. They will guide you through a training program fully adapted to your individual needs. \nThis is a unique opportunity to elevate every aspect of your game – from technique and strategy to tactics and competitive mindset. \nThe Grenaa padel camp offers the perfect environment to rapidly improve your padel while enjoying a fun\, supportive\, and motivating atmosphere in beautiful Grenaa\, Denmark. \n			\n				\n				\n				\n				\n				Goals\n				What You’ll Learn at the Padel Camp in Denmark:\n✅ Personalized trainingSmall groups based on your level to ensure you get the attention and guidance you need. \n🎓 Expert coachingLearn from professional coaches with international experience who will help you improve your technique and match strategy. \n🎾 Real-game practiceApply what you’ve learned in match play and competitive simulations to sharpen your skills under pressure. \n🔁 Complete developmentFocus on technique\, footwork\, and fast decision-making to elevate your overall performance on court. \n💬 Positive atmosphereTrain and grow alongside passionate players who are just as committed to improving as you are. \n			\n				\n				\n				\n				\n				Methodology\n				Padel Camp Denmark – Training Methodology\nOur training approach is built on innovative and dynamic methods\, designed to help you develop in key areas of your game: \n🔥 Offensive playLearn how to take control of the court and dominate with a strong attacking game. \n⚡ Precision & agilityTrain to move faster and more efficiently\, improving your accuracy and court coverage. \n🧠 Competitive mindsetSharpen your mental focus and decision-making skills in high-pressure situations. \n💪 High-intensity sessionsEngage in conditioned match play to simulate real competition and build confidence under pressure. \n			\n			\n				\n				\n				\n				\n				\n				\n				\n				\n				\n				Schedule\n				Padel Camp Schedule – Denmark\n📅 FridayWe kick off with an extended evening training session to get you fully into padel mode. \n📅 SaturdayDouble sessions (morning & afternoon) plus a special camp dinner to connect with fellow players. \n📅 SundayTraining & competitive match play. We wrap up around 2:00 PM\, leaving you energized and inspired. \n🔹 Total of 8 hours of intensive training spread across the weekend.Each session is carefully structured to provide optimal learning\, focusing on both technical and tactical aspects of the game. \n🔸 Level-based groupsTrain with players at your skill level to ensure the best experience and progress tailored to your style and ability. \n			\n				\n				\n				\n				\n				Location\n				Why Padel8500?\nPadel8500 is one of the top padel centers in Denmark\, featuring indoor courts that provide the perfect environment for year-round training.Its modern facilities and professional atmosphere offer the ideal setting to take your padel skills to the next level. \n			\n				\n				\n				\n				\n				Cancellation Policy\n				Cancellation Policy\n\n\nCancellation 25 days or less before the event: No refund. \n\n\nCancellation between 25 and 60 days before the event: 30% refund. \n\n\nCancellation more than 60 days before the event: 50% refund. \n\n\nPlease note that all cancellations must be communicated in writing. \n			\n			\n				\n				\n				\n				\n			\n				\n				\n				\n				\n				\n				\n				\n				\n				\n				\n				\n				\n					«Three full days of padel. It was fun\, very effective\, and educational. The team was very friendly and provided great feedback to help us improve. The highlight was the match against the best padel players!»— Johannes (2024) \n\nReserve Your Spot Now\nDon’t miss the chance to train with the best at the Padel Camp in Grenaa. Book your spot today on our website and get ready for a unique learning experience!
URL:https://worldenjoyerpadel.com/evento/campus-padel-grenaa/
CATEGORIES:Fin de Semana,Premium
ATTACH;FMTTYPE=image/jpeg:https://worldenjoyerpadel.com/wp-content/uploads/2025/04/Squoosh-Galten-grenaa-1-1.jpg
ORGANIZER;CN="Staff de P%C3%A1del de World Enjoyer":MAILTO:info@worldenjoyer.com
END:VEVENT
BEGIN:VEVENT
DTSTART;TZID=Europe/Madrid:20260116T160000
DTEND;TZID=Europe/Madrid:20260118T140000
DTSTAMP:20260423T001320
CREATED:20241121T225055Z
LAST-MODIFIED:20250521T111227Z
UID:10000004-1768579200-1768744800@worldenjoyerpadel.com
SUMMARY:Campus Padel Berlín
DESCRIPTION:🕑💪 ¡Plazas limitadas!\n				\n			\n				\n				\n				\n				\n				\n				\n				\n					\n				\n			\n				\n			\n			\n				\n				\n				\n				\n			\n				\n				\n				\n				\n				\n				\n				\n				\n				\n				\n				¡Campus Padel Berlín en We Are Padel Berlín – 3a Edición en 2026! \n¡No pierdas la oportunidad de vivir una experiencia única de fin de semana en We Are Padel Berlín! Del 16 al 18 de enero de 2026\, te ofrecemos un curso intensivo de 8 horas para mejorar tu nivel de padel en un entorno ideal. Durante estos tres días\, te ayudaremos a perfeccionar todos los aspectos de tu juego: técnica\, estrategia\, movimiento\, preparación mental y cómo afrontar la competición con confianza. \n📅 Fechas: del 16 al 18 de enero de 2026📶 Grupos de entrenamiento adaptados a tu nivel – ¡todos los niveles son bienvenidos!🎾 ¡Eleva tu nivel de padel en una experiencia única en Berlín! \n			\n			\n				\n				\n				\n				\n				\n				\n					\n				\n				\n				\n					\n						\n						\n							  \n  \n  \n  \n  \n  \n  \n							\n						\n					\n				\n				\n				\n				\n			\n			\n				\n				\n				\n					\n						\n						\n							  \n  \n  \n  \n							\n						\n					\n				\n				\n				\n				\n			\n			\n				\n				\n				\n					\n						\n						\n							  \n  \n  \n  \n							\n						\n					\n				\n				\n				\n				\n			\n			\n				\n				\n				\n					\n						\n						\n							  \n  \n  \n  \n							\n						\n					\n				\n				\n				\n				\n			\n			\n				\n				\n			\n			\n			\n				\n				\n				\n				\n			\n				\n				\n				\n				\n				\n				\n				\n				\n				\n				\n				\n				\n			\n				\n				\n				\n				\n				Más de 450 campamentos en 17 paísesCampus con más de 20 años de experiencia en todo el mundo\n				\n			\n				\n				\n				\n				\n				\n				\n				\n					\n				\n			\n				\n			\n			\n				\n				\n				\n				\n			\n				\n				\n				\n				\n				\n				\n				\n				\n				\n				\n				Staff de Pádel\n				¿Por qué asistir al Campus Padel Berlin en We Are Padel Berlín? \nEl Campus Padel en We Are Padel Berlín es una oportunidad perfecta para mejorar tu padel\, independientemente de si eres principiante o jugador avanzado. Contamos con un equipo de entrenadores altamente cualificados\, muchos de ellos con experiencia internacional\, que se encargarán de guiarte en un programa diseñado para maximizar tu progreso en un corto periodo de tiempo. \nEste campus es mucho más que solo un entrenamiento intensivo. Es una experiencia completa\, donde podrás mejorar tu técnica\, pulir tu juego de pies\, y aprender estrategias de alto nivel mientras disfrutas de la energía y el ambiente único de Berlín. \n			\n				\n				\n				\n				\n				Objetivos y metas\n				Campus Padel Berlín. ¿Qué puedes esperar de este campus? \n\nEntrenamiento personalizado: Adaptado a tu nivel y necesidades. Nuestros grupos se organizan según tu experiencia para garantizar que recibas la atención y el entrenamiento adecuado para ti.\nInstrucción de alta calidad: Nuestros entrenadores cuentan con una vasta experiencia en circuitos internacionales y están comprometidos en ayudarte a mejorar cada aspecto de tu juego.\nOportunidad de entrenar y jugar: Enfréntate a jugadores de diferentes niveles mientras recibes orientación profesional. Las sesiones incluyen prácticas específicas y partidos reales para aplicar lo aprendido.\nEnfoque integral: El programa cubre todos los aspectos clave del padel: técnica\, táctica\, movimiento\, mentalidad competitiva y preparación física.\nAmbiente motivador: Un espacio ideal para mejorar en un entorno positivo y energizante\, rodeado de jugadores apasionados por el padel.\n\n			\n				\n				\n				\n				\n				Metodología\n				Metodología de Entrenamiento – Campus Padel Berlín: \nEn World Enjoyer aplicamos un enfoque innovador para acelerar tu mejora en el padel. Nuestros entrenamientos se centran en principios clave como: \n\nJuego de ataque: Mejorarás tu capacidad ofensiva\, buscando siempre controlar el ritmo del juego.\nPrecisión en el movimiento: Aprenderás a moverte con eficiencia y precisión\, lo que es fundamental para optimizar tu rendimiento en la pista.\nMentalidad competitiva: Te enseñaremos a mantener una mentalidad fuerte y enfocada durante los partidos y entrenamientos\, para que puedas aprovechar cada oportunidad.\nEntrenamiento intenso: Con ejercicios dinámicos y partidos condicionados para simular situaciones de alta presión en el juego real.\nToma de decisiones y liderazgo: Trabajarás en la toma de decisiones rápidas y efectivas\, además de cómo liderar el juego desde la pista.\n\n			\n			\n				\n				\n				\n				\n				\n				\n				\n				\n				\n				Horario del Campus\n				Campus Padel Berlín: \n\nViernes: Garantizamos una larga sesión de entrenamiento por la tarde/noche.\nSábado: Organizamos sesiones dobles (mañana – tarde) más cena del campus.\nDomingo: Entrenamiento y competición. Terminamos alrededor de las 14:00.\n\nHorario del Campus: \n\nEl Campus Padel en We Are Padel Berlín incluye un total de 8 horas de entrenamiento intensivo distribuidas entre el viernes\, sábado y domingo.\nLas sesiones están organizadas para ofrecerte un aprendizaje óptimo a lo largo del fin de semana\, cubriendo tanto la parte técnica como la táctica.\nGrupos adaptados a tu nivel: Asegúrate de maximizar tu experiencia entrenando en un grupo acorde a tu capacidad y estilo de juego.\n\n			\n				\n				\n				\n				\n				Localización\n				We Are Padel Berlín es una de las mejores instalaciones de padel de la ciudad\, equipada con pistas de alta calidad que garantizan una experiencia de entrenamiento de primer nivel. Su ubicación y ambiente moderno hacen de este centro un lugar perfecto para entrenar durante todo el año\, con pistas cubiertas que te permitirán disfrutar del padel sin importar las condiciones climáticas. Además\, su diseño innovador crea el espacio ideal para aprender\, entrenar y divertirse. \n			\n				\n				\n				\n				\n				Política de cancelación\n				\nCancelación entre 25 días y el evento: sin reembolso.\nCancelación entre 25 y 60 días: reembolso del 30%.\nCancelación con más de 60 días: reembolso del 50%.\n\n			\n			\n				\n				\n				\n				\n			\n				\n				\n				\n				\n				\n				\n				\n				\n				\n				\n				\n				\n					Tres días llenos de pádel en Berlín. Fue divertido\, muy efectivo y educativo. El equipo fue muy amable y nos dio buenos comentarios para que pudiéramos mejorar. Lo más destacado fue el partido contra los mejores jugadores de pádel 🙂 \nJohanes (Enero 2024) \n¡Reserva tu plaza ahora y prepárate para mejorar tu padel en un fin de semana único en Berlín! No dejes pasar la oportunidad de entrenar con los mejores y disfrutar de una experiencia de aprendizaje incomparable. Visita nuestra página web para inscribirte y obtener más información. ¡Te esperamos!
URL:https://worldenjoyerpadel.com/evento/campus-padel-berlin/
LOCATION:We Are Padel\, Königshorster Str.\, 11-15\, Berlín\, Berlín\, 13439\, Germany
CATEGORIES:Fin de Semana,Premium
ATTACH;FMTTYPE=image/jpeg:https://worldenjoyerpadel.com/wp-content/uploads/2024/11/WhatsApp-Image-2025-05-14-at-12.15.05.jpeg
ORGANIZER;CN="Staff de P%C3%A1del de World Enjoyer":MAILTO:info@worldenjoyer.com
END:VEVENT
END:VCALENDAR