BEGIN:VCALENDAR
VERSION:2.0
PRODID:-//World Enjoyer Pádel - ECPv6.15.3//NONSGML v1.0//EN
CALSCALE:GREGORIAN
METHOD:PUBLISH
X-ORIGINAL-URL:https://worldenjoyerpadel.com
X-WR-CALDESC:Eventos para World Enjoyer Pádel
REFRESH-INTERVAL;VALUE=DURATION:PT1H
X-Robots-Tag:noindex
X-PUBLISHED-TTL:PT1H
BEGIN:VTIMEZONE
TZID:Europe/Madrid
BEGIN:DAYLIGHT
TZOFFSETFROM:+0100
TZOFFSETTO:+0200
TZNAME:CEST
DTSTART:20260329T010000
END:DAYLIGHT
BEGIN:STANDARD
TZOFFSETFROM:+0200
TZOFFSETTO:+0100
TZNAME:CET
DTSTART:20261025T010000
END:STANDARD
END:VTIMEZONE
BEGIN:VEVENT
DTSTART;TZID=Europe/Madrid:20260619T160000
DTEND;TZID=Europe/Madrid:20260621T140000
DTSTAMP:20260422T045424
CREATED:20260324T180635Z
LAST-MODIFIED:20260324T180640Z
UID:10000074-1781884800-1782050400@worldenjoyerpadel.com
SUMMARY:Campus Padel Essen
DESCRIPTION:🕑💪 ¡Plazas limitadas!\n				\n			\n				\n				\n				\n				\n				\n				\n				\n					\n				\n			\n				\n			\n			\n				\n				\n				\n				\n			\n				\n				\n				\n				\n				\n				\n				\n				\n				\n				\n				¡Campus Padel Essen en 4 Padel Essen – Primera Edición en 2026! \nDespués de 2 ediciones en Berlín\, ¡No pierdas la oportunidad de vivir una experiencia única de fin de semana en 4 Padel Essen! Del 9 al 11 de Enero de 2026\, te ofrecemos un curso intensivo de 8 horas para mejorar tu nivel de padel en un entorno perfecto. Durante estos tres días\, te ayudaremos a perfeccionar todos los aspectos de tu juego: técnica\, estrategia\, movimiento\, preparación mental y cómo afrontar la competición con confianza. \n📅 Fechas: del 9 al 11 de Enero de 2026\n📶 Grupos de entrenamiento adaptados a tu nivel – ¡todos los niveles son bienvenidos!\n🎾 ¡Eleva tu nivel de padel en una experiencia única en Essen!\n			\n			\n				\n				\n				\n				\n				\n				\n					\n				\n				\n				\n					\n						\n						\n							              \n							\n						\n					\n				\n				\n				\n				\n			\n			\n				\n				\n				\n					\n						\n						\n							        \n							\n						\n					\n				\n				\n				\n				\n			\n			\n				\n				\n				\n					\n						\n						\n							        \n							\n						\n					\n				\n				\n				\n				\n			\n			\n				\n				\n				\n					\n						\n						\n							        \n							\n						\n					\n				\n				\n				\n				\n			\n			\n				\n				\n			\n			\n			\n				\n				\n				\n				\n			\n				\n				\n				\n				\n				\n				\n				\n				\n				\n				\n				\n				\n			\n				\n				\n				\n				\n				Más de 500 campamentos en 18 paísesCampus con más de 22 años de experiencia en todo el mundo\n				\n			\n				\n				\n				\n				\n				\n				\n				\n					\n				\n			\n				\n			\n			\n				\n				\n				\n				\n			\n				\n				\n				\n				\n				\n				\n				\n				\n				\n				\n				Staff de Pádel\n				¿Por qué asistir al Campus Padel Essen? \nEl Campus Padel es una oportunidad perfecta para mejorar tu padel\, independientemente de si eres principiante o jugador avanzado. Contamos con un equipo de entrenadores altamente cualificados\, muchos de ellos con experiencia internacional\, que se encargarán de guiarte en un programa diseñado para maximizar tu progreso en un corto periodo de tiempo. \nSi eres un jugador avanzado o muy avanzado\, nuestros entrenadores tienen un nivel muy alto competitivo en España y contamos con jugadores profesionales en nuestro equipo de trabajo. \nEste campus es mucho más que solo un entrenamiento intensivo. Es una experiencia completa\, donde podrás mejorar tu técnica\, pulir tu juego de pies\, y aprender estrategias de competición.\n			\n				\n				\n				\n				\n				Objetivos y metas\n				Campus Padel Essen – ¿Qué vivirás en esta experiencia?\nEntrenamiento a tu medida\nCada jugador es único. Por eso organizamos los grupos según nivel y experiencia\, asegurando un trabajo adaptado a tus necesidades y objetivos personales. \nFormación de primer nivel\nContamos con entrenadores de amplia trayectoria internacional\, comprometidos en perfeccionar tu técnica y acompañarte en cada paso de tu evolución dentro de la pista. \nPráctica real y partidos\nAdemás de las sesiones técnicas y tácticas\, tendrás la oportunidad de enfrentarte a otros jugadores en partidos guiados\, poniendo en práctica lo aprendido de manera inmediata. \nTrabajo completo en tu juego\nNuestro programa no se centra solo en los golpes: también desarrollamos la táctica\, el movimiento\, la preparación física y la mentalidad competitiva para que alcances tu mejor versión. \nUn entorno que motiva\nEl campus se vive en un ambiente positivo y dinámico\, rodeado de jugadores con la misma pasión por el pádel. Un lugar perfecto para crecer\, disfrutar y superarte.\n			\n				\n				\n				\n				\n				Metodología\n				Metodología de Entrenamiento – Campus Padel Essen\nEn World Enjoyer aplicamos una metodología innovadora para acelerar tu progreso en el pádel. Durante el campus en Essen\, nuestros entrenamientos se organizan alrededor de principios clave que marcarán la diferencia en tu juego: \nJuego de ataque: Mejora tu capacidad ofensiva y aprende a controlar el ritmo del partido. \nPrecisión en el movimiento: Perfecciona tu desplazamiento en pista para ser más eficiente y efectivo. \nMentalidad competitiva: Desarrolla una actitud fuerte y enfocada para rendir bajo presión. \nEntrenamiento intenso: Ejercicios dinámicos y partidos condicionados que reproducen la exigencia del juego real. \nToma de decisiones y liderazgo: Entrena tu rapidez mental y la capacidad de liderar el juego desde la pista. \n			\n			\n				\n				\n				\n				\n				\n				\n				\n				\n				\n				Horario del Campus\n				Campus Padel Essen: \n\nViernes: Garantizamos una larga sesión de entrenamiento por la tarde/noche.\nSábado: Organizamos sesiones dobles (mañana – tarde) más cena del campus.\nDomingo: Entrenamiento y competición. Terminamos alrededor de las 14:00.\n\nHorario del Campus: \n\nEl Campus Padel Essen incluye un total de 8 horas de entrenamiento intensivo distribuidas entre el viernes\, sábado y domingo.\nLas sesiones están organizadas para ofrecerte un aprendizaje óptimo a lo largo del fin de semana\, cubriendo tanto la parte técnica como la táctica.\nGrupos adaptados a tu nivel: Asegúrate de maximizar tu experiencia entrenando en un grupo acorde a tu capacidad y estilo de juego.\n\n			\n				\n				\n				\n				\n				Localización\n				4 Padel Essen es una de las mejores instalaciones de padel de la región\, equipada con pistas de alta calidad que garantizan una experiencia de entrenamiento de primer nivel. Su ubicación y ambiente moderno hacen de este centro un lugar perfecto para entrenar durante todo el año\, con pistas cubiertas que te permitirán disfrutar del padel sin importar las condiciones climáticas. Además\, su diseño innovador crea el espacio ideal para aprender\, entrenar y divertirse.\n			\n				\n				\n				\n				\n				Política de cancelación\n				\nCancelación entre 25 días y el evento: sin reembolso.\nCancelación entre 25 y 60 días: reembolso del 30%.\nCancelación con más de 60 días: reembolso del 50%.\n\n			\n			\n				\n				\n				\n				\n			\n				\n				\n				\n				\n				\n				\n				\n				\n				\n				\n				\n				\n					Tres días llenos de pádel en Berlín. Fue divertido\, muy efectivo y educativo. El equipo fue muy amable y nos dio buenos comentarios para que pudiéramos mejorar. Lo más destacado fue el partido contra los mejores jugadores de pádel 🙂 \nJohanes (Enero 2024) \n¡Reserva tu plaza ahora y prepárate para mejorar tu padel en un fin de semana único en Essen! No dejes pasar la oportunidad de entrenar con los mejores y disfrutar de una experiencia de aprendizaje incomparable. Visita nuestra página web para inscribirte y obtener más información. ¡Te esperamos!
URL:https://worldenjoyerpadel.com/evento/campus-padel-essen/
CATEGORIES:Fin de Semana,Premium
ATTACH;FMTTYPE=image/jpeg:https://worldenjoyerpadel.com/wp-content/uploads/2025/10/Foto-Berlin-2024-para-web-Essen.jpg
ORGANIZER;CN="Staff de P%C3%A1del de World Enjoyer":MAILTO:info@worldenjoyer.com
END:VEVENT
END:VCALENDAR