BEGIN:VCALENDAR
VERSION:2.0
PRODID:-//World Enjoyer Pádel - ECPv6.15.3//NONSGML v1.0//EN
CALSCALE:GREGORIAN
METHOD:PUBLISH
X-ORIGINAL-URL:https://worldenjoyerpadel.com
X-WR-CALDESC:Eventos para World Enjoyer Pádel
REFRESH-INTERVAL;VALUE=DURATION:PT1H
X-Robots-Tag:noindex
X-PUBLISHED-TTL:PT1H
BEGIN:VTIMEZONE
TZID:Europe/Madrid
BEGIN:DAYLIGHT
TZOFFSETFROM:+0100
TZOFFSETTO:+0200
TZNAME:CEST
DTSTART:20260329T010000
END:DAYLIGHT
BEGIN:STANDARD
TZOFFSETFROM:+0200
TZOFFSETTO:+0100
TZNAME:CET
DTSTART:20261025T010000
END:STANDARD
END:VTIMEZONE
BEGIN:VEVENT
DTSTART;TZID=Europe/Madrid:20260720T160000
DTEND;TZID=Europe/Madrid:20260726T140000
DTSTAMP:20260423T083714
CREATED:20241122T170624Z
LAST-MODIFIED:20260417T151505Z
UID:10000018-1784563200-1785074400@worldenjoyerpadel.com
SUMMARY:Campus Padel Menores Competición
DESCRIPTION:🕑💪 ¡Plazas limitadas!\n				\n			\n				\n				\n				\n				\n				\n				\n				\n					\n				\n			\n				\n			\n			\n				\n				\n				\n				\n			\n				\n				\n				\n				\n				\n				\n				\n				\n				\n				\n				Apúntate a nuestro Campus Padel Menores Competición. Te ofrecemos un campamento exclusivo de Pádel para menores que realmente quieren competir y mejorar durante la época estival. Objetivos: técnica\, estrategia\, movimiento\, consejos tácticos\, la parte mental y la preparación para la competición. \nEl Campus incluye alojamiento en residencia universitaria\, pensión completa\, supervisión de los menores y entrenamiento de mañana y tarde más preparación física más seminarios para mejorar la parte táctica y mental. \n📅 Del 20 al 26 de Julio de 2026. Garantizamos un campus de 7 días. \n📶 Este Campus de Padel está dirigido a menores que compiten y quieren llegar a jugar realmente bien. Trabajamos en grupos de entrenamiento según la edad. \n🎾 Sube Tú nivel de pádel en una experiencia única en Verano! \n¡Entrena y mejora tu padel! \n			\n			\n				\n				\n				\n				\n				\n				\n					\n				\n				\n				\n					\n						\n						\n							  \n  \n  \n  \n  \n  \n  \n  \n  \n							\n						\n					\n				\n				\n				\n				\n			\n			\n				\n				\n				\n					\n						\n						\n							\n							\n						\n					\n				\n				\n				\n				\n			\n			\n				\n				\n				\n					\n						\n						\n							\n							\n						\n					\n				\n				\n				\n				\n			\n			\n				\n				\n				\n					\n						\n						\n							\n							\n						\n					\n				\n				\n				\n				\n			\n			\n				\n				\n			\n			\n			\n				\n				\n				\n				\n			\n				\n				\n				\n				\n				\n				\n				\n				\n				\n				\n				\n				\n			\n				\n				\n				\n				\n				Más de 500 campus de entrenamiento en 18 paísesCampus con más de 20 años de experiencia en todo el mundo \n				\n			\n				\n				\n				\n				\n				\n				\n				\n					\n				\n			\n				\n			\n			\n				\n				\n				\n				\n			\n				\n				\n				\n				\n				\n				\n				\n				\n				\n				\n				Staff de Pádel\n				Staff del Campus Padel Menores Competición\nEl equipo de trabajo está compuesto por entrenadores profesionales con experiencia en los circuitos internacionales\, algunos de ellos compitiendo a nivel mundial. Todos tienen una fuerte vocación de servicio\, con el objetivo de ofrecer un valor añadido en cada sesión de entrenamiento\, garantizando una experiencia única y enriquecedora para todos los participantes. \nLEER MÁS \n			\n				\n				\n				\n				\n				Objetivos y metas\n				– Campus Padel Menores Competición es una gran oportunidad de mejorar tu pádel de forma ostensible en época estival. Entrena y mejora tu pádel en un entorno internacional.-Recibe instrucción de alta calidad de nuestro experimentado equipo de entrenadores internacionales.-Disfruta de una experiencia inolvidable en un ambiente muy agradable.-El programa abarcará todos los aspectos del desarrollo del jugador\, incluyendo técnica\, táctica\, movimiento y entrenamiento físico.-Recibe entrenamiento y partidos de nuestro equipo profesional. \n¡Contáctanos para más detalles sobre el campus! \n			\n				\n				\n				\n				\n				Metodología\n				Metodología del Campus Padel Menores Competición\nEn World Enjoyer Pádel aplicamos sistemas de entrenamiento innovadores para mejorar tu pádel de forma ostensible. Nuestra metodología de trabajo se basa en una serie de principios como: la mentalidad en la competición\, intensidad en los entrenamientos y partidos condicionados\, la concentración\, la movilidad\, el carácter ganador\, liderar en el juego\, la percepción\, la correcta decisión y saber competir realmente. \n			\n			\n				\n				\n				\n				\n				\n				\n				\n				\n				\n				Horario del Campus\n				Campamento Padel Menores Competición\nSe trata de un campus con pernoctación en pensión completa en Residencia Universitaria con este horario: \n8:00   Levantarse y Desayunar. \n9:15 Introducción de los objetivos diarios / Entrenamiento técnico y trabajo con el preparador físico.  *Cada mañana se trabajarán áreas específicas que se implementarán por la tarde. \n12:00  Estiramientos y valoración de la sesión. \n12:30 Piscina o descanso. \n13:30 Comida. \n14.00 Siesta. \n16:00 Entrenamiento táctico. Mediante partidos condicionados focalizados en los objetivos matutinos. Partidos con entrenadores. Competición. \n17:30 Seminarios y vídeo análisis. Con el fin de mejorar la parte mental y la relación con la pareja deportiva. \n20.00 Cena.21:00 Actividad programada.22.30 Dormir. \n			\n				\n				\n				\n				\n				Localización\n				Campus Padel Menores Competición en LeónNuestro Campus de Padel para Menores en Competición ofrece una experiencia de alto nivel en el centro de León. Los jugadores se alojan en una residencia universitaria con pensión completa\, en un entorno cómodo\, seguro y adaptado a sus necesidades. Los entrenamientos se llevan a cabo en el Club de Padel Prix (Oalma)\, situado en el centro comercial\, a tan solo unos minutos de la residencia. El club dispone de 13 pistas panorámicas de cristal de última generación\, con tecnología avanzada para el desarrollo técnico y táctico de jóvenes en etapa competitiva. Un entorno ideal para crecer como deportista y persona. \n			\n				\n				\n				\n				\n				Política de cancelación\n				\nCancelación entre 25 días y el evento: sin reembolso.\nCancelación entre 25 y 60 días: reembolso del 30%.\nCancelación con más de 60 días: reembolso del 50%.\n\n			\n			\n				\n				\n				\n				\n			\n				\n				\n				\n				\n				\n				\n				\n				\n				\n				\n				\n				\n					Mi hijo realizó el campus la primer semana de julio y no tengo más que palabras de agradecimiento por como lo han tratado y todo lo que aprendió. Gran grupo de monitores y gran grupo de niños. Se lo han pasado estupendamente. Super recomendable!!! \nPablo (Lanzarote)
URL:https://worldenjoyerpadel.com/evento/campus-padel-menores-competicion-2/
CATEGORIES:Premium,Verano Junior
ATTACH;FMTTYPE=image/jpeg:https://worldenjoyerpadel.com/wp-content/uploads/2024/11/22-Week-2-Summer-Padel-Camp-2025.jpg
ORGANIZER;CN="Staff de P%C3%A1del de World Enjoyer":MAILTO:info@worldenjoyer.com
END:VEVENT
END:VCALENDAR